BEGIN:VCALENDAR
METHOD:PUBLISH
PRODID:-//4003@www.region-coburg.tv//NONSGML iCalcreator 2.4.3//
VERSION:2.0
BEGIN:VEVENT
UID:4003-20170530201500-20170530000000@www.region-coburg.tv
DTSTAMP:20260420T204632Z
CONTACT:09561 / 239051
CREATED:20170502T164600Z
DESCRIPTION:Ende der 40er Jahre des 20. Jahrhunderts regiert Präsident Gab
 riel González Videla den südamerikanischen Staat Chile\; der kommunistis
 che Senator Neruda – zugleich ein bekannter Schriftsteller – stellt si
 ch gegen die Praktiken des Staatsoberhauptes und muss prompt fliehen. Verf
 olgt vom findigen Peluchonneau\, einem Schergen des Präsidenten\, beginnt
  für Neruda und seine Familie eine abenteuerliche und fintenreiche Partie
  um den Preis der Freiheit.VHS-Film der Woche | Argentinien\, Chile\, Fran
 kreich\, Spanien\, USA 2016 - Tickets: 09561 / 239051
DTEND:20170530T000000
DTSTART:20170530T201500
LAST-MODIFIED:20170502T164600Z
LOCATION:Coburg\, Kino Utopolis
SUMMARY:Neruda
X-IMAGE:http://www.region-coburg.tv/images/medium/vhs-film-1276db0f.jpg
END:VEVENT
END:VCALENDAR
