BEGIN:VCALENDAR
METHOD:PUBLISH
PRODID:-//4002@www.region-coburg.tv//NONSGML iCalcreator 2.4.3//
VERSION:2.0
BEGIN:VEVENT
UID:4002-20170523201500-20170523000000@www.region-coburg.tv
DTSTAMP:20260420T204251Z
CONTACT:09561 / 239051
CREATED:20170502T164300Z
DESCRIPTION:Der Spielfilm kreist um die Lebenspfade von vier Frauen aus Mon
 tana\, die sich in unterschiedlichen Milieus\, Altersstufen und Geisteswel
 ten ihren höchst individuellen Herausforderungen stellen: Lehrerin Beth\,
  Hausfrau Gina\, Pferdepflegerin Jamie und Rechtsanwältin Laura. Regisseu
 rin Kelly Reichardt verflicht hier mehrere Kurzgeschichten aus „Both Way
 s Is the Only Way I Want It” der US-Amerikanerin Maile Meloy zu einem fi
 lmischen Gesamtkunstwerk.VHS-Film der Woche | USA 2016 - Tickets: 09561 / 
 239051
DTEND:20170523T000000
DTSTART:20170523T201500
LAST-MODIFIED:20170502T164300Z
LOCATION:Coburg\, Kino Utopolis
SUMMARY:Certain Women
X-IMAGE:http://www.region-coburg.tv/images/medium/vhs-film-1276db0f.jpg
END:VEVENT
END:VCALENDAR
