BEGIN:VCALENDAR
METHOD:PUBLISH
PRODID:-//4001@www.region-coburg.tv//NONSGML iCalcreator 2.4.3//
VERSION:2.0
BEGIN:VEVENT
UID:4001-20170517201500-20170517000000@www.region-coburg.tv
DTSTAMP:20260420T204443Z
CONTACT:09561 / 239051
CREATED:20170502T164100Z
DESCRIPTION:Seit 1843 lebt der preuÃŸische Philosoph Karl Marx mit seiner F
 rau im Pariser Exil\; hier hÃ¤lt er seine Familie mÃ¼hsam als Journalist Ã
 ¼ber Wasser. Ãœberraschend findet der frustrierte Utopist einen Geistesver
 wandten im Industriellen Friedrich Engels: Die beiden Intellektuellen schl
 ieÃŸen Freundschaft\, versenken sich in eine gemeinsame Vision â€“ und fei
 len schlieÃŸlich zusammen an der schillernden Ideologie des Kommunismus.VH
 S-Film der Woche | USA 2016 - Tickets: 09561 / 239051
DTEND:20170517T000000
DTSTART:20170517T201500
LAST-MODIFIED:20170502T164100Z
LOCATION:Coburg\, Kino Utopolis
SUMMARY:Der junge Karl Marx
X-IMAGE:http://www.region-coburg.tv/images/medium/vhs-film-1276db0f.jpg
END:VEVENT
END:VCALENDAR
