BEGIN:VCALENDAR
METHOD:PUBLISH
PRODID:-//4000@www.region-coburg.tv//NONSGML iCalcreator 2.4.3//
VERSION:2.0
BEGIN:VEVENT
UID:4000-20170510201500-20170510000000@www.region-coburg.tv
DTSTAMP:20260420T190143Z
CONTACT:09561 / 239051
CREATED:20170502T163500Z
DESCRIPTION:Dokumentation zum EuropatagDas Projekt der europäischen Einhei
 t taumelt seit Jahren durch immer neue Krisen und ungelöste Herausforderu
 ngen\, die Christoph Schuch in seiner Dokumentation schonungslos aufspieß
 t\, wie z.B. Korruption\, Nationalismus\, wirtschaftliche und soziale Prob
 leme… Der Regisseur formuliert diese zentralen Fragen an die Zukunft Eur
 opas ohne ideologische Scheuklappen und schreckt auch nicht vor unbequemen
  Analysen der augenblicklichen Misere zurück.VHS-Film der Woche | Deutsch
 land 2017 - Tickets: 09561 / 239051
DTEND:20170510T000000
DTSTART:20170510T201500
LAST-MODIFIED:20170502T163500Z
LOCATION:Coburg\, Kino Utopolis
SUMMARY:Europa - Ein Kontinent als Beute
X-IMAGE:http://www.region-coburg.tv/images/medium/vhs-film-1276db0f.jpg
END:VEVENT
END:VCALENDAR
