BEGIN:VCALENDAR
METHOD:PUBLISH
PRODID:-//3995@www.region-coburg.tv//NONSGML iCalcreator 2.4.3//
VERSION:2.0
BEGIN:VEVENT
UID:3995-20170430110000-20170430000000@www.region-coburg.tv
DTSTAMP:20260421T110720Z
CONTACT:Eintritt frei!
CREATED:20170415T120600Z
DESCRIPTION:The Raven / La voix humaineDeutsche Erstaufführung (The Raven)
 Kammeroper von Toshio Hosokawa | Monooper von Francis PoulencIn englischer
  Sprache mit deutschen ÜbertitelnLandestheater Coburg\, Matinée zur Prem
 iere am 13. Mai 2017 - Tickets: Eintritt frei!
DTEND:20170430T000000
DTSTART:20170430T110000
LAST-MODIFIED:20170415T120600Z
LOCATION:Landestheater Coburg\, Spiegelsaal
SUMMARY:Matinée
X-IMAGE:http://www.region-coburg.tv/images/medium/ltc-7b7cb14f.jpg
END:VEVENT
END:VCALENDAR
