BEGIN:VCALENDAR
METHOD:PUBLISH
PRODID:-//3994@www.region-coburg.tv//NONSGML iCalcreator 2.4.3//
VERSION:2.0
BEGIN:VEVENT
UID:3994-20170506200000-20170506000000@www.region-coburg.tv
DTSTAMP:20260421T123133Z
CONTACT:09561 / 898989
CREATED:20170415T120000Z
DESCRIPTION:Choreografische Miniaturen von und mit dem Ballett CoburgÂ Die 
 Show muss weitergehen: Wer wÃ¼sste das besser als TÃ¤nzerinnen und TÃ¤nzer
 ? Wer diesen Beruf ergreift\, der weiÃŸ: Die Zeit der aktiven BÃ¼hnenkarri
 ere begrenzt\, mit spÃ¤testens Mitte 30 ist Schluss. Da ist es nur gut\, w
 enn man vorher schon in artverwandte Berufszweige hineinschnuppern und sic
 h beispielsweise auf dem Gebiet der Choreografie erproben kann: Bei den â€
 žFirst Steps' erwartet die Besucher ein Tanzabend gespickt mit fantasievol
 len tÃ¤nzerischen Miniaturen\, vom Spitzentanz bis zum Modern Dance.Landes
 theater Coburg\, Premiere am 23. April 2017 - Tickets: 09561 / 898989
DTEND:20170506T000000
DTSTART:20170506T200000
LAST-MODIFIED:20170415T120000Z
LOCATION:Theater in der Reithalle
SUMMARY:First Steps â€“ The Show Must Go On
X-IMAGE:http://www.region-coburg.tv/images/medium/steps-vh-3adb8125.jpg
END:VEVENT
END:VCALENDAR
