BEGIN:VCALENDAR
METHOD:PUBLISH
PRODID:-//3993@www.region-coburg.tv//NONSGML iCalcreator 2.4.3//
VERSION:2.0
BEGIN:VEVENT
UID:3993-20170607193000-20170607000000@www.region-coburg.tv
DTSTAMP:20260421T175221Z
CONTACT:09561 / 898989
CREATED:20170415T115700Z
DESCRIPTION:Schauspiel von Rainer Werner FassbinderVolkstheater muss nicht 
 im Bauernschrank enden. Wenn es noch Beweise dafür bräuchte\, dass Raine
 r Werner Fassbinders Lebenswerk – und darin sein Volkstheater – von be
 sonderer Bedeutung für unsere Gesellschaft ist\, fänden wir in den aktue
 llen Debatten um die Integration von Flüchtlingen ständig welche.Das Pri
 vate war und ist politisch\, da gibt es nichts zu rütteln. Der Workaholic
  aus Bad Wörishofen hat diesen Grundsatz bis zu seinem frühen Tod konseq
 uent gelebt und deshalb hat auch dieses Schauspiel aus dem Jahr 1968 nicht
 s von seiner Aktualität eingebüßt.VideoLandestheater Coburg\, Premiere 
 am 22. April 2017 - Tickets: 09561 / 898989
DTEND:20170607T000000
DTSTART:20170607T193000
LAST-MODIFIED:20170415T115700Z
LOCATION:Landestheater Coburg\, Großes Haus
SUMMARY:Katzelmacher
X-IMAGE:http://www.region-coburg.tv/images/medium/katzelmacher-vh-512b43cb.
 jpg
END:VEVENT
END:VCALENDAR
