BEGIN:VCALENDAR
METHOD:PUBLISH
PRODID:-//3992@www.region-coburg.tv//NONSGML iCalcreator 2.4.3//
VERSION:2.0
BEGIN:VEVENT
UID:3992-20170429200000-20170429000000@www.region-coburg.tv
DTSTAMP:20260420T190312Z
CONTACT:VVK Buchhandlung Riemann
CREATED:20170412T182700Z
DESCRIPTION:Roman-Marathon: Paula Fürstenberg | Klaus Böldl | Rasha Khaya
 tMusikalische Umrahmung: Adeline Ebert (Geige) und Michael Ebert (Klavier)
 Programm - Tickets: VVK Buchhandlung Riemann
DTEND:20170429T000000
DTSTART:20170429T200000
LAST-MODIFIED:20170412T182700Z
LOCATION:Theater in der Reithalle
SUMMARY:Coburg liest
X-IMAGE:http://www.region-coburg.tv/images/medium/co-liest-vh-61d1a9ed.jpg
END:VEVENT
END:VCALENDAR
