BEGIN:VCALENDAR
METHOD:PUBLISH
PRODID:-//3991@www.region-coburg.tv//NONSGML iCalcreator 2.4.3//
VERSION:2.0
BEGIN:VEVENT
UID:3991-20170428200000-20170428000000@www.region-coburg.tv
DTSTAMP:20260420T185955Z
CONTACT:VVK Buchhandlung Riemann
CREATED:20170412T182200Z
DESCRIPTION:Jakob Augstein & Nikolaus Blome: 'Links oder rechts?'Jakob Augs
 tein arbeitete bis 2003 bei der 'Süddeutschen Zeitung'. Zudem war er als 
 Autor für 'Die Zeit' tätig. Seit 2008 ist er Verleger der Wochenzeitung 
 'der Freitag'. Nikolaus Blome war Wirtschaftsredakteur beim 'Tagesspiegel'
 \, Brüssel-Korrespondent und stellvertretender Chefredakteur der 'Welt' u
 nd Leiter des Hauptstadtbüros der 'Bild'. Er war Mitglied der Chefredakti
 on des „Spiegel“ und Leiter von dessen Hauptstadt-Studio. Seit Dezembe
 r 2015 ist er stellvertretender Chefredakteur der „Bild“.Programm - Ti
 ckets: VVK Buchhandlung Riemann
DTEND:20170428T000000
DTSTART:20170428T200000
LAST-MODIFIED:20170412T182200Z
LOCATION:Hochschule Coburg\, Brose-Aula
SUMMARY:Coburg liest
X-IMAGE:http://www.region-coburg.tv/images/medium/co-liest-vh-61d1a9ed.jpg
END:VEVENT
END:VCALENDAR
