BEGIN:VCALENDAR
METHOD:PUBLISH
PRODID:-//3990@www.region-coburg.tv//NONSGML iCalcreator 2.4.3//
VERSION:2.0
BEGIN:VEVENT
UID:3990-20170427200000-20170427000000@www.region-coburg.tv
DTSTAMP:20260420T190423Z
CONTACT:VVK Buchhandlung Riemann
CREATED:20170412T181900Z
DESCRIPTION:Autoren-Gala: Peter StammPeter Stamm\, geboren 1963\, ist Schwe
 izer. Seit 1990 arbeitet er als freier Autor. Er schrieb mehr als ein Dutz
 end Hörspiele. Seit seinem Romandebüt „Agnes“ 1998 erschienen fünf 
 weitere Romane\, fünf Erzählungssammlungen und ein Band mit Theaterstüc
 ken. Peter Stamm wurde 2012 mit dem Bodensee-Literaturpreis und 2014 mit d
 em Friedrich-Hölderlin-Preis ausgezeichnet.Programm - Tickets: VVK Buchha
 ndlung Riemann
DTEND:20170427T000000
DTSTART:20170427T200000
LAST-MODIFIED:20170412T181900Z
LOCATION:Pfarrzentrum St. Augustin
SUMMARY:Coburg liest
X-IMAGE:http://www.region-coburg.tv/images/medium/co-liest-vh-61d1a9ed.jpg
END:VEVENT
END:VCALENDAR
