BEGIN:VCALENDAR
METHOD:PUBLISH
PRODID:-//3989@www.region-coburg.tv//NONSGML iCalcreator 2.4.3//
VERSION:2.0
BEGIN:VEVENT
UID:3989-20170426200000-20170426000000@www.region-coburg.tv
DTSTAMP:20260420T185538Z
CONTACT:VVK Buchhandlung Riemann
CREATED:20170412T181600Z
DESCRIPTION:Ulrich Eberl: 'Smarte Maschinen'Dr. Ulrich Eberl ist einer der 
 renommiertesten Wissenschafts- und Technikjournalisten deutscher Sprache. 
 Er promovierte an der TU München in Biophysik\, arbeitete bei Daimler und
  leitete 20 Jahre lang bei Siemens die Innovationskommunikation. Zudem war
  er Gründer und Chefredakteur des international mehrfach ausgezeichneten 
 Zukunftsmagazins „Pictures of the Future'.Programm - Tickets: VVK Buchha
 ndlung Riemann
DTEND:20170426T000000
DTSTART:20170426T200000
LAST-MODIFIED:20170412T181600Z
LOCATION:Gymnasium Ernestinum\, Mensa
SUMMARY:Coburg liest
X-IMAGE:http://www.region-coburg.tv/images/medium/co-liest-vh-61d1a9ed.jpg
END:VEVENT
END:VCALENDAR
