BEGIN:VCALENDAR
METHOD:PUBLISH
PRODID:-//3988@www.region-coburg.tv//NONSGML iCalcreator 2.4.3//
VERSION:2.0
BEGIN:VEVENT
UID:3988-20170425200000-20170425000000@www.region-coburg.tv
DTSTAMP:20260420T190226Z
CONTACT:09561 / 898989
CREATED:20170412T180700Z
DESCRIPTION:Literatur in den Häusern unserer StadtProgrammZum gemeinsamen 
 Ausklang und zum Austausch über das Erlebte steht ab 21 Uhr der Große Sa
 al im Münchner Hofbräu (Johannisgasse 8) zur Verfügung. Im geselligen Z
 usammensein bei Bier\, Wein und anderen Getränken können die Zuhörer mi
 t den Schauspielern und Veranstaltern ins Gespräch kommen. - Tickets: 095
 61 / 898989
DTEND:20170425T000000
DTSTART:20170425T200000
LAST-MODIFIED:20170412T180700Z
LOCATION:Innenstadt
SUMMARY:Coburg liest
X-IMAGE:http://www.region-coburg.tv/images/medium/co-liest-vh-61d1a9ed.jpg
END:VEVENT
END:VCALENDAR
