BEGIN:VCALENDAR
METHOD:PUBLISH
PRODID:-//3977@www.region-coburg.tv//NONSGML iCalcreator 2.4.3//
VERSION:2.0
BEGIN:VEVENT
UID:3977-20170519200000-20170519000000@www.region-coburg.tv
DTSTAMP:20260421T140714Z
CONTACT:09561 / 898989
CREATED:20170408T175500Z
DESCRIPTION:Schauspiel von Theresia WalserWer also ist der beste Hitlerdars
 teller? Nein\, diese Frage ist nicht politisch\, sondern ernst gemeint! Dr
 ei Schauspieler treten diesen Wettstreit vor ihrem Auftritt in einer Talks
 how an und versuchen sich gegenseitig in Theorie und Praxis zu übertrumpf
 en. Theresia Walser schafft gerade\, was in Deutschland selten geworden is
 t: die intelligente und abendfüllende politische Komödie neu zu erfinden
 .VideoLandestheater Coburg\, Premiere am 7. April 2017 - Tickets: 09561 / 
 898989
DTEND:20170519T000000
DTSTART:20170519T200000
LAST-MODIFIED:20170408T175500Z
LOCATION:Theater in der Reithalle
SUMMARY:Ein bisschen Ruhe vor dem Sturm
X-IMAGE:http://www.region-coburg.tv/images/medium/sturm-vh-2c3d12e4.jpg
END:VEVENT
END:VCALENDAR
