BEGIN:VCALENDAR
METHOD:PUBLISH
PRODID:-//3976@www.region-coburg.tv//NONSGML iCalcreator 2.4.3//
VERSION:2.0
BEGIN:VEVENT
UID:3976-20170618160000-20170618000000@www.region-coburg.tv
DTSTAMP:20260421T192133Z
CONTACT:09561 / 898989
CREATED:20170408T175300Z
DESCRIPTION:Bühnenweihfestspiel von Richard WagnerMit großzügiger Unters
 tützung der Brose UnternehmensgruppeSelbst Wagners größte Kritiker spre
 chen den Titel dieser Oper immer mit Ehrfurcht aus. Wer sich ihr aussetzt\
 , wird Teil einer kollektiven Meditation\, die ihresgleichen sucht. In Par
 kett und auf dem Rang wähnt man sich durch eine höhere Macht erhoben\, s
 chon um das Sitzfleisch wenigstens in Gedanken zu schonen. Zum Raum wird h
 ier die Zeit.VideoLandestheater Coburg\, Premiere am 9. April 2017 - Ticke
 ts: 09561 / 898989
DTEND:20170618T000000
DTSTART:20170618T160000
LAST-MODIFIED:20170408T175300Z
LOCATION:Landestheater Coburg\, Großes Haus
SUMMARY:Parsifal
X-IMAGE:http://www.region-coburg.tv/images/medium/parsifal-vh-d8622272.jpg
END:VEVENT
END:VCALENDAR
