BEGIN:VCALENDAR
METHOD:PUBLISH
PRODID:-//3971@www.region-coburg.tv//NONSGML iCalcreator 2.4.3//
VERSION:2.0
BEGIN:VEVENT
UID:3971-20170330200000-20170330000000@www.region-coburg.tv
DTSTAMP:20260422T192521Z
CONTACT: 09561 / 234923
CREATED:20170328T202700Z
DESCRIPTION:Ein Abend – zwei ClownsAm Donnerstag\, den 30. März treffen 
 im „Münchner Hofbräu“ zwei Perlen der europäischen Kleinkunstszene 
 aufeinander. Der Music-Comedian Andi Steil und der in New York ausgebildet
 e Schauspieler und Comedian Jeff Hess zeigen mitreißende Action-Comedy\, 
 hohe Musikalität und ein Feuerwerk an schrägen Ideen. Die Clownshow „S
 erious Lee Funny“ zeigt Durchgeknalltes für Fortgeschrittene. - Tickets
 :  09561 / 234923
DTEND:20170330T000000
DTSTART:20170330T200000
LAST-MODIFIED:20170328T202700Z
LOCATION:Coburg\, Münchner Hofbräu
SUMMARY:Serious Lee Funny
X-IMAGE:http://www.region-coburg.tv/images/medium/clowns-vh-a6ce8786.jpg
END:VEVENT
END:VCALENDAR
