BEGIN:VCALENDAR
METHOD:PUBLISH
PRODID:-//3970@www.region-coburg.tv//NONSGML iCalcreator 2.4.3//
VERSION:2.0
BEGIN:VEVENT
UID:3970-20170329190000-20170329000000@www.region-coburg.tv
DTSTAMP:20260420T171625Z
CONTACT:09561 / 891420
CREATED:20170328T202300Z
DESCRIPTION:Theologe trifft KrimiautorinWenn ein Theologe auf eine Krimi-Au
 torin trifft\, könnte das durchaus interessant werden. Das ist am Mittwoc
 h\, den 29. März in der Coburger Stadtbücherei der Fall. Friederike Schm
 öe liest aus ihrem Coburg-Krimi „Dohlenhatz“\, Ottmar Fuchs präsenti
 ert sein Buch „Die andere Reformation – ökumenisch für eine solidari
 sche Welt“. Über „Verbrechen und Schuld – der gnadenlose Teufelskre
 is“ lesen und streiten Theologe Ottmar Fuchs und Krimiautorin Friederike
  Schmöe. - Tickets: 09561 / 891420
DTEND:20170329T000000
DTSTART:20170329T190000
LAST-MODIFIED:20170328T202300Z
LOCATION:Coburg\, Stadtbücherei
SUMMARY:Verbrechen und Schuld
X-IMAGE:http://www.region-coburg.tv/images/medium/verbrechen-vh-267ec11f.jp
 g
END:VEVENT
END:VCALENDAR
