BEGIN:VCALENDAR
METHOD:PUBLISH
PRODID:-//3966@www.region-coburg.tv//NONSGML iCalcreator 2.4.3//
VERSION:2.0
BEGIN:VEVENT
UID:3966-20170318170000-20170318000000@www.region-coburg.tv
DTSTAMP:20260422T155515Z
CONTACT:Eintritt frei!
CREATED:20170314T180200Z
DESCRIPTION:Musical fÃ¼r alle GenerationenNach zahlreichen Proben ist es en
 dlich soweit. Das Mehrgenerationen-Musical â€žHaltestelle GlÃ¼ckâ€œ der Ki
 rchengemeinde DÃ¶rfles-Esbach erlebt am Samstag und Sonntag\, dem 18. und 
 19. MÃ¤rz in der Kirche â€žZum guten Hirtenâ€œ seine AuffÃ¼hrung. Das groÃ
 Ÿe Thema: Wo und wie finde ich das GlÃ¼ck und den Sinn des Lebens. Unter d
 er Leitung von Bojana Blohmann und Gabriele TÃ¶pfer singen und spielen aus
 schlieÃŸlich Laien im Alter von 5 bis 76 Jahren. Solisten\, Chor\, Schulch
 or und eine Band gewÃ¤hren den Zugang zum GlÃ¼ck bei freiem Eintritt\, am 
 1. und 2. April finden Zusatzvorstellungen statt. - Tickets: Eintritt frei
 !
DTEND:20170318T000000
DTSTART:20170318T170000
LAST-MODIFIED:20170314T180200Z
LOCATION:Kirche 'Zum guten Hirten'
SUMMARY:Haltestelle GlÃ¼ck
X-IMAGE:http://www.region-coburg.tv/images/medium/glueck-vh-9f3ff87e.jpg
END:VEVENT
END:VCALENDAR
