BEGIN:VCALENDAR
METHOD:PUBLISH
PRODID:-//3965@www.region-coburg.tv//NONSGML iCalcreator 2.4.3//
VERSION:2.0
BEGIN:VEVENT
UID:3965-20170326110000-20170326000000@www.region-coburg.tv
DTSTAMP:20260422T174734Z
CONTACT:Eintritt frei!
CREATED:20170311T182400Z
DESCRIPTION:Die stumme SerenadeParsifalBühnenweihfestspiel von Richard Wag
 ner | Mit großzügiger Unterstützung der Brose UnternehmensgruppeLandest
 heater Coburg\, Matinée zur Premiere am 9. April 2017 - Tickets: Eintritt
  frei!
DTEND:20170326T000000
DTSTART:20170326T110000
LAST-MODIFIED:20170311T182400Z
LOCATION:Landestheater Coburg\, Großes Haus
SUMMARY:Matinée
X-IMAGE:http://www.region-coburg.tv/images/medium/ltc-7b7cb14f.jpg
END:VEVENT
END:VCALENDAR
