BEGIN:VCALENDAR
METHOD:PUBLISH
PRODID:-//3964@www.region-coburg.tv//NONSGML iCalcreator 2.4.3//
VERSION:2.0
BEGIN:VEVENT
UID:3964-20170530193000-20170530000000@www.region-coburg.tv
DTSTAMP:20260421T155930Z
CONTACT:09561 / 898989
CREATED:20170311T181500Z
DESCRIPTION:UraufführungBallett von Rosemary Helliwell | Musik von Roland 
 FisterWeiße Kaninchen können nicht tanzen? Pah. Natürlich können sie. 
 Und die Frösche machen gleich mal mit. Willkommen im Wunderland. Roland F
 ister\, der Coburg eine wunderbare Musical-Oper namens „Das Bildnis des 
 Dorian Gray' komponierte\, legt nun sein Ballett „Alice im Wunderland' n
 ach.VideoLandestheater Coburg\, Premiere am 18. März 2017 - Tickets: 0956
 1 / 898989
DTEND:20170530T000000
DTSTART:20170530T193000
LAST-MODIFIED:20170311T181500Z
LOCATION:Landestheater Coburg\, Großes Haus
SUMMARY:Alice im Wunderland
X-IMAGE:http://www.region-coburg.tv/images/medium/alice-vh-a7caa841.jpg
END:VEVENT
END:VCALENDAR
