BEGIN:VCALENDAR
METHOD:PUBLISH
PRODID:-//3963@www.region-coburg.tv//NONSGML iCalcreator 2.4.3//
VERSION:2.0
BEGIN:VEVENT
UID:3963-20170315190000-20170315000000@www.region-coburg.tv
DTSTAMP:20260420T171632Z
CONTACT:09568 / 81-136
CREATED:20170310T202300Z
DESCRIPTION:'Der verlorene Mann'Eine weitere interessante Lesung gibt es am
  Mittwoch\, den 15. März in der Neustadter Stadtbücherei. Die Coburger A
 utorin Heidi Fischer liest aus ihrem neuen Buch „Der verlorene Mann“. 
 Der Roman erzählt nicht nur von der Suche nach dem geliebten Partner in d
 en Gebirgsregionen Nepals\, sondern auch von der Suche eines Menschen nach
  Liebe\, Glauben und den Wurzeln des Lebens. - Tickets: 09568 / 81-136
DTEND:20170315T000000
DTSTART:20170315T190000
LAST-MODIFIED:20170310T202300Z
LOCATION:Stadtbücherei Neustadt
SUMMARY:Heidi Fischer liest
X-IMAGE:http://www.region-coburg.tv/images/medium/verloren-vh-6ec45354.jpg
END:VEVENT
END:VCALENDAR
