BEGIN:VCALENDAR
METHOD:PUBLISH
PRODID:-//3962@www.region-coburg.tv//NONSGML iCalcreator 2.4.3//
VERSION:2.0
BEGIN:VEVENT
UID:3962-20170313190000-20170313000000@www.region-coburg.tv
DTSTAMP:20260420T152346Z
CONTACT: 09561 / 891420
CREATED:20170310T201700Z
DESCRIPTION:'Der Männer Lust und Freude sein'„Weibern mangelts an Stärk
 e und Kräften des Leibes und am Verstand“ – solche Sprüche brachten 
 Martin Luther in den Ruf der Frauenfeindlichkeit. Die Autorin Sylvia Weige
 lt schaut da etwas genauer hin. In ihrer Lesung „Der Männer Lust und Fr
 eude sein – Frauen um Luther“ beschreibt sie Porträts von Frauen aus 
 Luthers Umfeld und deren Lebenswirklichkeit. Die Lesung zum Internationale
 n Frauentag findet am Montag\, den 13. März in der Coburger Stadtbüchere
 i statt. - Tickets:  09561 / 891420
DTEND:20170313T000000
DTSTART:20170313T190000
LAST-MODIFIED:20170310T201700Z
LOCATION:Coburg\, Stadtbücherei
SUMMARY:Frauen um Luther
X-IMAGE:http://www.region-coburg.tv/images/medium/luther-vh-88a3bca0.jpg
END:VEVENT
END:VCALENDAR
