BEGIN:VCALENDAR
METHOD:PUBLISH
PRODID:-//3959@www.region-coburg.tv//NONSGML iCalcreator 2.4.3//
VERSION:2.0
BEGIN:VEVENT
UID:3959-20170312110000-20170312000000@www.region-coburg.tv
DTSTAMP:20260420T152253Z
CONTACT:09561 / 898989
CREATED:20170310T181900Z
DESCRIPTION:Podium der TalenteDie Bühne des Coburger Musentempels wird wie
 der zum Podium für junge Talente aus unserer Region. Auch diesmal verspri
 cht die 47. Matinee der Reihe 'Jugend spielt für Jugend' Musik\, Gesang u
 nd Tanz. Die Nachwuchskünstler freuen sich am Sonntag\, den 12. März auf
  zahlreiche Besucher. - Tickets: 09561 / 898989
DTEND:20170312T000000
DTSTART:20170312T110000
LAST-MODIFIED:20170310T181900Z
LOCATION:Landestheater\, Großes Haus
SUMMARY:Jugend spielt für Jugend
X-IMAGE:http://www.region-coburg.tv/images/medium/jugend-fuer-jugend-8b6c65
 0c.jpg
END:VEVENT
END:VCALENDAR
