BEGIN:VCALENDAR
METHOD:PUBLISH
PRODID:-//3958@www.region-coburg.tv//NONSGML iCalcreator 2.4.3//
VERSION:2.0
BEGIN:VEVENT
UID:3958-20170502100000-20170502000000@www.region-coburg.tv
DTSTAMP:20260421T123926Z
CONTACT:09561 / 898989
CREATED:20170305T122100Z
DESCRIPTION:Eine manchmal heitere und manchmal traurige Geschichte von Jens
  Raschke | Für Menschen ab 9 Jahre | In Kooperation mit dem Naturkundemus
 eum CoburgDas zehnjährige Mädchen Jette steht auf dem Friedhof und erinn
 ert sich daran\, wie sie das Sterben ihres kleinen Bruders begleitete. Wie
  sie seinen Sarg bemalte und wie er beerdigt wurde. Auf berührende Weise 
 hat Jens Raschke selbst einmal seinen Monolog zur Uraufführung inszeniert
  und dabei einen Dialog mit den Kindern im Publikum gewagt.Heraus kam ein 
 starkes Stück Theater\, vor dem sich niemand fürchten muss – im Gegent
 eil. Es ist wichtig\, mit Kindern über alles zu sprechen. „Schlafen Fis
 che?' nimmt auch uns Erwachsenen dabei ein Stück weit die Sorge\, etwas f
 alsch zu machen oder die Kinder zu überfordern. Oder könnten Sie aus dem
  Stegreif die Frage beantworten\, ob Fische schlafen? Nun ja\, es gibt ebe
 n auch nicht immer eine Antwort. Hauptsache\, wir geben es den Kindern geg
 enüber auch zu.VideoLandestheater Coburg\, Premiere am 4. März 2017 - Ti
 ckets: 09561 / 898989
DTEND:20170502T000000
DTSTART:20170502T100000
LAST-MODIFIED:20170305T122100Z
LOCATION:Coburg\, Naturkundemuseum
SUMMARY:Schlafen Fische?
X-IMAGE:http://www.region-coburg.tv/images/medium/fische-vh-233901c8.jpg
END:VEVENT
END:VCALENDAR
