BEGIN:VCALENDAR
METHOD:PUBLISH
PRODID:-//3957@www.region-coburg.tv//NONSGML iCalcreator 2.4.3//
VERSION:2.0
BEGIN:VEVENT
UID:3957-20170307190000-20170307000000@www.region-coburg.tv
DTSTAMP:20260422T122225Z
CONTACT:Eintritt frei
CREATED:20170305T121300Z
DESCRIPTION:Alice im WunderlandUraufführung | Ballett von Rosemary Helliwe
 ll | Musik von Roland FisterLandestheater Coburg\, Premiere am 18. März 2
 017 - Tickets: Eintritt frei
DTEND:20170307T000000
DTSTART:20170307T190000
LAST-MODIFIED:20170305T121300Z
LOCATION:Landestheater\, Großes Haus
SUMMARY:Soiree
X-IMAGE:http://www.region-coburg.tv/images/medium/ltc-7b7cb14f.jpg
END:VEVENT
END:VCALENDAR
