BEGIN:VCALENDAR
METHOD:PUBLISH
PRODID:-//3954@www.region-coburg.tv//NONSGML iCalcreator 2.4.3//
VERSION:2.0
BEGIN:VEVENT
UID:3954-20170309190000-20170309000000@www.region-coburg.tv
DTSTAMP:20260420T151831Z
CONTACT: 09561 / 85380
CREATED:20170227T203200Z
DESCRIPTION:Krimi in der EhrenburgJohannes Wilkes ist nicht nur Arzt und Vo
 rsitzender des Erlanger RĂĽckert-Kreises. Er hat auch einen ziemlich verrĂ
 Ľckten RĂĽckert-Krimi geschrieben. Zu seiner Lesung â€žDer Fall RĂĽckertâ€
 ś lĂ¤dt der Autor bei freiem Eintritt am Donnerstag\, den 09. MĂ¤rz in die
  Ehrenburg ein. Die augenzwinkernde Krimi-KomĂ¶die gehĂ¶rt zum Begleitprog
 ramm der Ausstellung â€žDer Weltpoet. Friedrich RĂĽckertâ€ś\, die noch bis
  zum 17. April im Coburger Kunstverein zu sehen ist. - Tickets:  09561 / 8
 5380
DTEND:20170309T000000
DTSTART:20170309T190000
LAST-MODIFIED:20170227T203200Z
LOCATION:Coburg\, Landesbibliothek
SUMMARY:Der Fall RĂĽckert
X-IMAGE:http://www.region-coburg.tv/images/medium/rueckert-vh-4db702e1.jpg
END:VEVENT
END:VCALENDAR
