BEGIN:VCALENDAR
METHOD:PUBLISH
PRODID:-//3952@www.region-coburg.tv//NONSGML iCalcreator 2.4.3//
VERSION:2.0
BEGIN:VEVENT
UID:3952-20170304190000-20170304000000@www.region-coburg.tv
DTSTAMP:20260422T121725Z
CONTACT:09564 / 8046811
CREATED:20170227T201700Z
DESCRIPTION:Musik und TexteSeine Musik - zauberhaft und berührend\, seine 
 Texte - humorvoll\, bisweilen aber auch derb und albern. Ein „Mozart-Abe
 nd in Ton und Text“ findet am Samstag\, 04. März in der Destillerie Mö
 bus in Bad Rodach statt. Die Sopranistin Anna Gütter und Regisseur Tobias
  Materna gestalten die musikalische Lesung „Von und zu Mozart“. Am Kla
 vier begleitet Dominik Tremel. - Tickets: 09564 / 8046811
DTEND:20170304T000000
DTSTART:20170304T190000
LAST-MODIFIED:20170227T201700Z
LOCATION:Bad Rodach\, Destillerie Möbus
SUMMARY:Von und zu Mozart
X-IMAGE:http://www.region-coburg.tv/images/medium/mozart-vh-7d4b8317.jpeg
END:VEVENT
END:VCALENDAR
