BEGIN:VCALENDAR
METHOD:PUBLISH
PRODID:-//3950@www.region-coburg.tv//NONSGML iCalcreator 2.4.3//
VERSION:2.0
BEGIN:VEVENT
UID:3950-20170425201500-20170425000000@www.region-coburg.tv
DTSTAMP:20260420T185956Z
CONTACT:09561 / 239051
CREATED:20170227T182500Z
DESCRIPTION:DokumentationIm November 2013 erspielt sich der Norweger Magnus
  Carlsen den Titel des Schachweltmeisters – im Alter von nur 22 Jahren! 
 Die Dokumentation von Benjamin Ree vollzieht in Originalaufnahmen die dram
 atische Entwicklung eines mathematisch begabten Jungen zum Schach-Virtuose
 n\, der schon mit 13 Jahren zum Großmeister erklärt wurde und gegen den 
 Altmeister Garri Kasparov hat antreten dürfen …VHS-Film der Woche | Nor
 wegen 2016 - Tickets: 09561 / 239051
DTEND:20170425T000000
DTSTART:20170425T201500
LAST-MODIFIED:20170227T182500Z
LOCATION:Coburg\, Kino Utopolis
SUMMARY:Magnus - Der Mozart des Schachs
X-IMAGE:http://www.region-coburg.tv/images/medium/vhs-film-1276db0f.jpg
END:VEVENT
END:VCALENDAR
