BEGIN:VCALENDAR
METHOD:PUBLISH
PRODID:-//3949@www.region-coburg.tv//NONSGML iCalcreator 2.4.3//
VERSION:2.0
BEGIN:VEVENT
UID:3949-20170419201500-20170419000000@www.region-coburg.tv
DTSTAMP:20260420T190144Z
CONTACT:09561 / 239051
CREATED:20170227T182400Z
DESCRIPTION:Busfahrer Paterson folgt im Beruf wie Privatleben einem fest ei
 ngespielten Tagesablauf\; seine kreative Ehefrau Laura dagegen stürzt sic
 h enthusiastisch von einem Hobby in das nächste. Allerdings frönt auch P
 aterson einer stillen Passion: Die zahllosen Unterhaltungen seiner Fahrgä
 ste inspirieren ihn zu Gedichten\, die er Tag für Tag in einem Büchlein 
 notiert….VHS-Film der Woche | USA 2016 - Tickets: 09561 / 239051
DTEND:20170419T000000
DTSTART:20170419T201500
LAST-MODIFIED:20170227T182400Z
LOCATION:Coburg\, Kino Utopolis
SUMMARY:Paterson
X-IMAGE:http://www.region-coburg.tv/images/medium/vhs-film-1276db0f.jpg
END:VEVENT
END:VCALENDAR
