BEGIN:VCALENDAR
METHOD:PUBLISH
PRODID:-//3948@www.region-coburg.tv//NONSGML iCalcreator 2.4.3//
VERSION:2.0
BEGIN:VEVENT
UID:3948-20170411201500-20170411000000@www.region-coburg.tv
DTSTAMP:20260420T171058Z
CONTACT:09561 / 239051
CREATED:20170227T182200Z
DESCRIPTION:Der französische Marineoffizier Jacques-Yves Cousteau begeiste
 rt sich für das Abenteuer des Tauchens\; daher unternimmt er 1951 gemeins
 am mit seiner Frau Simone eine spektakuläre Expedition ins Rote Meer – 
 auf dem Forschungsschiff Calypso\, einem ehemaligen Minensuchboot der Roya
 l Navy. In den folgenden Jahren wagt Cousteau eine lange Reihe von Forschu
 ngsreisen\, die er mittels zahlreicher Filme und Bücher dokumentiert. Doc
 h sein Erfolg und der Ruhm des inzwischen legendären Tauchers beginnen al
 lmählich an seinem Charakter zu zehren …VHS-Film der Woche | Frankreich
  2016 - Tickets: 09561 / 239051
DTEND:20170411T000000
DTSTART:20170411T201500
LAST-MODIFIED:20170227T182200Z
LOCATION:Coburg\, Kino Utopolis
SUMMARY:Jacques - Entdecker der Ozeane
X-IMAGE:http://www.region-coburg.tv/images/medium/vhs-film-1276db0f.jpg
END:VEVENT
END:VCALENDAR
