BEGIN:VCALENDAR
METHOD:PUBLISH
PRODID:-//3947@www.region-coburg.tv//NONSGML iCalcreator 2.4.3//
VERSION:2.0
BEGIN:VEVENT
UID:3947-20170405201500-20170405000000@www.region-coburg.tv
DTSTAMP:20260420T171410Z
CONTACT:09561 / 239051
CREATED:20170227T182000Z
DESCRIPTION:Mein Leben soll ein Fest seinIm letzten Viertel des 19. Jahrhun
 derts wächst die Ingenieurstochter Minna Hermine Paula Becker zunächst i
 n Dresden\, dann in Bremen auf. Ihre Erziehung ist geprägt von der schön
 geistigen Atmosphäre ihres Elternhauses\, was in der jungen Frau schließ
 lich den unbändigen Wunsch weckt\, sich als Malerin zu verwirklichen. Nac
 h ihrer Ausbildung zur Lehrerin reist Paula daher nach Berlin und nimmt in
 tensiven Zeichen- und Malunterricht\, unter anderem an der Damenakademie d
 es Vereins der Berliner Künstlerinnen. Nach mehreren Aufenthalten in der 
 legendären Künstlerkolonie Worpswede heiratet sie 1901 den Landschaftsma
 ler Otto Modersohn. Doch die größte Leidenschaft im Leben der Paula Mode
 rsohn-Becker sollte die Malerei bleiben!VHS-Film der Woche | Deutschland\,
  Frankreich 2016 - Tickets: 09561 / 239051
DTEND:20170405T000000
DTSTART:20170405T201500
LAST-MODIFIED:20170227T182000Z
LOCATION:Coburg\, Kino Utopolis
SUMMARY:Paula
X-IMAGE:http://www.region-coburg.tv/images/medium/vhs-film-1276db0f.jpg
END:VEVENT
END:VCALENDAR
