BEGIN:VCALENDAR
METHOD:PUBLISH
PRODID:-//3946@www.region-coburg.tv//NONSGML iCalcreator 2.4.3//
VERSION:2.0
BEGIN:VEVENT
UID:3946-20170329201500-20170329000000@www.region-coburg.tv
DTSTAMP:20260420T171145Z
CONTACT:09561 / 239051
CREATED:20170227T181800Z
DESCRIPTION:Die Brüder Matthias und David verfolgen völlig unterschiedlic
 he Glückskonzepte: Matthias lässt sich mit seiner Lebensgefährtin Camil
 le locker durch sein Leben treiben – David dagegen profiliert sich als e
 rfolgreicher Banker. Diese Parallelleben der Brüder kollidieren\, als ihr
 e Familien im Sommerhaus der Eltern aufeinandertreffen und David den verme
 intlichen Schlendrian seines Bruders herrisch zu unterbinden versucht. Die
 se Anmaßung jedoch empört Camille\; energisch beginnt sie eine Revolte z
 u inszenieren …VHS-Film der Woche | Deutschland\, Frankreich 2014 - Tick
 ets: 09561 / 239051
DTEND:20170329T000000
DTSTART:20170329T201500
LAST-MODIFIED:20170227T181800Z
LOCATION:Coburg\, Kino Utopolis
SUMMARY:Im Sommer wohnt er unten
X-IMAGE:http://www.region-coburg.tv/images/medium/vhs-film-1276db0f.jpg
END:VEVENT
END:VCALENDAR
