BEGIN:VCALENDAR
METHOD:PUBLISH
PRODID:-//3945@www.region-coburg.tv//NONSGML iCalcreator 2.4.3//
VERSION:2.0
BEGIN:VEVENT
UID:3945-20170322201500-20170322000000@www.region-coburg.tv
DTSTAMP:20260420T171442Z
CONTACT:09561 / 239051
CREATED:20170227T181600Z
DESCRIPTION:In den Jahren vor dem Ersten Weltkrieg macht der Ã¶sterreichisc
 he Maler Egon Schiele Furore mit provokanten expressionistischen GemÃ¤lden
 . KÃ¼nstlerisch inspirieren lÃ¤sst er sich dabei hÃ¤ufig durch Frauen\, z.
 B. von seiner Schwester Gerti\; gemeinsam mit Wally Neuzil\, einem ehemali
 gen Modell Gustav Klimts\, wagt Schiele schlieÃŸlich eine stÃ¼rmische AffÃ
 ¤re. Im Weltkrieg dient der Maler als â€žEinjÃ¤hrig-Freiwilligerâ€œ in der
  Kaiserlichen Armee und entschlieÃŸt sich zu heiraten â€“ allerdings nicht
  seine bisherige LebensgefÃ¤hrtin Wally â€¦VHS-Film der Woche | Luxemburg\
 , Ã–sterreich 2016 - Tickets: 09561 / 239051
DTEND:20170322T000000
DTSTART:20170322T201500
LAST-MODIFIED:20170227T181600Z
LOCATION:Coburg\, Kino Utopolis
SUMMARY:Egon Schiele
X-IMAGE:http://www.region-coburg.tv/images/medium/vhs-film-1276db0f.jpg
END:VEVENT
END:VCALENDAR
