BEGIN:VCALENDAR
METHOD:PUBLISH
PRODID:-//3944@www.region-coburg.tv//NONSGML iCalcreator 2.4.3//
VERSION:2.0
BEGIN:VEVENT
UID:3944-20170314201500-20170314000000@www.region-coburg.tv
DTSTAMP:20260420T171145Z
CONTACT:09561 / 239051
CREATED:20170227T181300Z
DESCRIPTION:Zum Internationalen FrauentagDie gesellschaftliche Kulisse dies
 es Dramas von Regisseurin Deniz Gamze Ergüven ist ein Dorf in der türkis
 chen Provinz. Die fünf Schwestern Ece\, Lale\, Nur\, Selma und Sonay sind
  Waisen und werden daher durch ihre Großmutter erzogen. Am letzten Tag de
 s Schuljahres baden die Mädchen gemeinsam mit einigen Schulkameraden im M
 eer\, was prompt als Skandal interpretiert wird: Die Großmutter und ein O
 nkel beginnen deshalb das Leben der jungen Frauen drastisch einzuschränke
 n und fordern so ungewollt die unbändige Freiheitsliebe der Schwestern he
 raus ...VHS-Film der Woche | Deutschland\, Frankreich\, Türkei 2015 - Tic
 kets: 09561 / 239051
DTEND:20170314T000000
DTSTART:20170314T201500
LAST-MODIFIED:20170227T181300Z
LOCATION:Coburg\, Kino Utopolis
SUMMARY:Mustang
X-IMAGE:http://www.region-coburg.tv/images/medium/vhs-film-1276db0f.jpg
END:VEVENT
END:VCALENDAR
