BEGIN:VCALENDAR
METHOD:PUBLISH
PRODID:-//3943@www.region-coburg.tv//NONSGML iCalcreator 2.4.3//
VERSION:2.0
BEGIN:VEVENT
UID:3943-20170308201500-20170308000000@www.region-coburg.tv
DTSTAMP:20260420T151831Z
CONTACT:09561 / 239051
CREATED:20170227T181200Z
DESCRIPTION:Louise von Salomé wächst zunächst wohlbehütet in der intell
 ektuellen Atmosphäre einer zaristischen Offiziersfamilie auf. Ihre Leiden
 schaft für Wissenschaft und Philosophie führt sie jedoch schon 1880 an d
 ie Universität von Zürich\, wo sie unter anderem Vorlesungen in den Fäc
 hern Archäologie\, Geschichte und Religionswissenschaften belegt. In den 
 folgenden Jahren macht die ebenso brillante wie selbstbewusste Russin die 
 Bekanntschaft einer langen Reihe legendärer Denker: z.B. der Philosophen 
 Paul Rée und Friedrich Nietzsche - dessen Heiratsantrag sie ablehnt\, des
  Dichters Rainer Maria Rilke oder der Schriftstellerin Malwida von Meysenb
 ug… Als bedeutende Psycholanalytikerin sollte sie schließlich selbst in
  die Wissenschaftsgeschichte eingehen.VHS-Film der Woche | Deutschland\, S
 chweiz 2015 - Tickets: 09561 / 239051
DTEND:20170308T000000
DTSTART:20170308T201500
LAST-MODIFIED:20170227T181200Z
LOCATION:Coburg\, Kino Utopolis
SUMMARY:Lou Andreas-Salomé
X-IMAGE:http://www.region-coburg.tv/images/medium/vhs-film-1276db0f.jpg
END:VEVENT
END:VCALENDAR
