BEGIN:VCALENDAR
METHOD:PUBLISH
PRODID:-//3942@www.region-coburg.tv//NONSGML iCalcreator 2.4.3//
VERSION:2.0
BEGIN:VEVENT
UID:3942-20170301201500-20170301000000@www.region-coburg.tv
DTSTAMP:20260420T151757Z
CONTACT:09561 / 239051
CREATED:20170227T181000Z
DESCRIPTION:Regisseurin Maren Ade malt in ihrem skurrilen Familiendrama das
  bunte Bild zweier eigenwilliger Charaktere: Des exzentrischen Musiklehrer
 s Winfried und seiner Tochter Ines â€“ einer ambitionierten Unternehmensbe
 raterin. Nach dem Tod seines Hundes reist der Vater nach Bukarest\, wo Ine
 s gerade an einem wichtigen Projekt arbeitet. Durch abstruse Auftritte â€“
  z.B. als angeblicher Coach â€žToni Erdmannâ€œ â€“ wirbelt der Vater die s
 trenge Wirtschaftswelt seiner Tochter durcheinander\; genervt steht die eh
 rgeizige Karrieristin bald vor der schwierigen Frage: wie soll sie souverÃ
 ¤n mit Winfrieds humorvoller Exzentrik umgehen?VHS-Film der Woche | Deutsc
 hland\, Ã–sterreich 2016 - Tickets: 09561 / 239051
DTEND:20170301T000000
DTSTART:20170301T201500
LAST-MODIFIED:20170227T181000Z
LOCATION:Coburg\, Kino Utopolis
SUMMARY:Toni Erdmann
X-IMAGE:http://www.region-coburg.tv/images/medium/vhs-film-1276db0f.jpg
END:VEVENT
END:VCALENDAR
