BEGIN:VCALENDAR
METHOD:PUBLISH
PRODID:-//3939@www.region-coburg.tv//NONSGML iCalcreator 2.4.3//
VERSION:2.0
BEGIN:VEVENT
UID:3939-20171027100000-20171027000000@www.region-coburg.tv
DTSTAMP:20260422T105705Z
CONTACT:09561 / 898989
CREATED:20170221T202100Z
DESCRIPTION:Jihad Baby! | UraufführungSchauspiel von Daniel Ratthei für M
 enschen ab 14 JahrenAnd the winner is? Die meisten Points gehen nach? Cott
 bus! Herzlichen Glückwunsch\, lieber Daniel Ratthei! Ihr Stück „Jihad 
 Baby!' hat den ersten Platz beim zweiten Coburger Autorenforum gewonnen. S
 o\, oder so ähnlich wird der junge Autor vor wenigen Tagen benachrichtigt
  worden sein – und wird sich auch entsprechend gefreut haben. Denn nun w
 ird „Jihad Baby!' uraufgeführt\, und das ist der größte Traum eines S
 chriftstellers\, der sich an seinen Schreibtisch setzt und ein Theaterstü
 ck beginnt.Mit „Jihad Baby!' begibt sich das Publikum auf eine spannende
  Reise und blickt in den Strudel der Radikalisierung\, der noch immer viel
 e junge Menschen in Europa fasziniert.VideoLandestheater Coburg\, Premiere
  am 24. Februar 2017 - Tickets: 09561 / 898989
DTEND:20171027T000000
DTSTART:20171027T100000
LAST-MODIFIED:20170221T202100Z
LOCATION:Theater in der Reithalle
SUMMARY:Jihad Baby!
X-IMAGE:http://www.region-coburg.tv/images/medium/jihad-vh-6680b3cc.jpg
END:VEVENT
END:VCALENDAR
