BEGIN:VCALENDAR
METHOD:PUBLISH
PRODID:-//3938@www.region-coburg.tv//NONSGML iCalcreator 2.4.3//
VERSION:2.0
BEGIN:VEVENT
UID:3938-20170223200000-20170223000000@www.region-coburg.tv
DTSTAMP:20260422T103202Z
CONTACT: 09561 / 234923
CREATED:20170215T195900Z
DESCRIPTION:Puppenspiel in ZauberweltDie Hypochondrie des franzÃ¶sischen So
 nnenkÃ¶nigs Ludwig XIV inspirierte seinerzeit den Dichter MoliÃ¨re zur Kom
 Ã¶die â€žDer eingebildete Krankeâ€œ. Das â€žAmbrella Figurentheaterâ€œ hat
  das StÃ¼ck einer ganz besonderen Behandlung unterzogen. KrÃ¤ftig gestraff
 t und um einige HandlungsstrÃ¤nge erweitert ist â€žDer eingebildete Kranke
 â€œ als Puppenspiel am Donnerstag\, den 23. Februar im â€žMÃ¼nchner HofbrÃ
 ¤uâ€œ zu sehen. - Tickets:  09561 / 234923
DTEND:20170223T000000
DTSTART:20170223T200000
LAST-MODIFIED:20170215T195900Z
LOCATION:Coburg\, Saal MÃ¼nchner HofbrÃ¤u
SUMMARY:Der eingebildete Kranke
X-IMAGE:http://www.region-coburg.tv/images/medium/figurentheater-vh-9dc63dd
 4.jpg
END:VEVENT
END:VCALENDAR
