BEGIN:VCALENDAR
METHOD:PUBLISH
PRODID:-//3935@www.region-coburg.tv//NONSGML iCalcreator 2.4.3//
VERSION:2.0
BEGIN:VEVENT
UID:3935-20170216190000-20170216000000@www.region-coburg.tv
DTSTAMP:20260420T151922Z
CONTACT: 09561 / 891420
CREATED:20170209T180300Z
DESCRIPTION:Annette Pussert liestGeschehenes darf nicht vergessen und Schwe
 igen muss gebrochen werden – um Verdrängung und Vergebung geht es im Ro
 man-Debüt von Annette Pussert. In Coburg geboren\, arbeitet sie als freib
 erufliche Autorin und Online-Redakteurin in Berlin. Die Lesung „Nord Nor
 d Ost“ findet am Donnerstag\, den 16. Februar in der Coburger Stadtbüch
 erei statt. - Tickets:  09561 / 891420
DTEND:20170216T000000
DTSTART:20170216T190000
LAST-MODIFIED:20170209T180300Z
LOCATION:Coburg\, Stadtbücherei
SUMMARY:Nord Nord Ost
X-IMAGE:http://www.region-coburg.tv/images/medium/pussert-vh-5f53646e.jpg
END:VEVENT
END:VCALENDAR
