BEGIN:VCALENDAR
METHOD:PUBLISH
PRODID:-//3934@www.region-coburg.tv//NONSGML iCalcreator 2.4.3//
VERSION:2.0
BEGIN:VEVENT
UID:3934-20170214200000-20170214000000@www.region-coburg.tv
DTSTAMP:20260420T152007Z
CONTACT:09561 / 1661
CREATED:20170209T175700Z
DESCRIPTION:Marc Elsberg liestErschreckend nah an einer möglichen zukünft
 igen Wirklichkeit sind die Romane des Bestsellerautors Marc Elsberg. Die p
 reisgekrönten Thriller 'Blackout' und 'Zero' befassen sich mit den Themen
  Energiesicherheit und Datenmissbrauch im Internet. Um Gentechnik geht es 
 in „Helix – Sie werden uns ersetzen“. Der Autor liest aus seinem neu
 esten Buch am Dienstag\, den 14. Februar im Coburger „Haus Contakt“. -
  Tickets: 09561 / 1661
DTEND:20170214T000000
DTSTART:20170214T200000
LAST-MODIFIED:20170209T175700Z
LOCATION:Coburg\, Haus Contakt
SUMMARY:Helix – Sie werden uns ersetzen
X-IMAGE:http://www.region-coburg.tv/images/medium/elsberg-vh-9acb16cf.jpg
END:VEVENT
END:VCALENDAR
