BEGIN:VCALENDAR
METHOD:PUBLISH
PRODID:-//3931@www.region-coburg.tv//NONSGML iCalcreator 2.4.3//
VERSION:2.0
BEGIN:VEVENT
UID:3931-20170211140000-20170211000000@www.region-coburg.tv
DTSTAMP:20260422T084738Z
CREATED:20170209T174000Z
DESCRIPTION:Karfunkel-TheaterOtfried PreuÃŸlers spannende Geschichte vom RÃ
 ¤uber Hotzenplotz und der gestohlenen KaffeemÃ¼hle der Grossmutter ist nac
 h wie vor ein Kinder-Hit. Das Karfunkel-Figurentheater aus dem unterfrÃ¤nk
 ischen Burgpreppach Ã¼berrascht am Samstag\, den 11. Februar im Coburger K
 ongresshaus mit einer neuen Auflage des Klassikers.
DTEND:20170211T000000
DTSTART:20170211T140000
LAST-MODIFIED:20170209T174000Z
LOCATION:Kongresshaus Rosengarten
SUMMARY:Der RÃ¤uber Hotzenplotz
X-IMAGE:http://www.region-coburg.tv/images/medium/hotzenplotz-vh-70e77ff1.j
 pg
END:VEVENT
END:VCALENDAR
