BEGIN:VCALENDAR
METHOD:PUBLISH
PRODID:-//3930@www.region-coburg.tv//NONSGML iCalcreator 2.4.3//
VERSION:2.0
BEGIN:VEVENT
UID:3930-20170222180000-20170222000000@www.region-coburg.tv
DTSTAMP:20260420T151837Z
CONTACT:Eintritt frei!
CREATED:20170209T173300Z
DESCRIPTION:â€žWelches Europa wollen wir?â€œEine brandaktuelle Frage\, fÃ¼r
  deren Diskussion das AuswÃ¤rtige Amt im Rahmen einer deutschlandweiten Ve
 ranstaltungsreihe Politiker und BehÃ¶rdenvertreter mit BÃ¼rgerinnen und BÃ
 ¼rgern zusammenbringt. An rund 30 Orten in Deutschland findet diese Verans
 taltungsreihe statt â€“ einer davon ist Neustadt bei Coburg. Auf Initiativ
 e von Kanat Akin\, Jugendbeauftragter des Landkreises\, und dem Europe Dir
 ect Informationszentrum Coburg ist es in Zusammenarbeit mit nectv und der 
 Stadt Neustadt gelungen\, die Veranstaltungsreihe in die Region zu holen.M
 oderation: Christine Rebhan - Tickets: Eintritt frei!
DTEND:20170222T000000
DTSTART:20170222T180000
LAST-MODIFIED:20170209T173300Z
LOCATION:Neustadt\, kultur.werk.stadt
SUMMARY:BÃ¼rgerdialog Europa
X-IMAGE:http://www.region-coburg.tv/images/medium/europe-direct-2797602f.jp
 g
END:VEVENT
END:VCALENDAR
