BEGIN:VCALENDAR
METHOD:PUBLISH
PRODID:-//3920@www.region-coburg.tv//NONSGML iCalcreator 2.4.3//
VERSION:2.0
BEGIN:VEVENT
UID:3920-20170128193000-20170128000000@www.region-coburg.tv
DTSTAMP:20260422T052702Z
CONTACT:09564 / 4761
CREATED:20170118T200200Z
DESCRIPTION:Baumann macht TheaterWenn Songklassiker wie â€śNo Woman No Cryâ
 €ť ins FrĂ¤nkische ĂĽbersetzt werden\, wird daraus eben â€śKa Weiber\, ka 
 Gschreiâ€ť. Unter diesem Titel ist in Elsa\, im â€žElsicher Dorfhausâ€ś\, 
 am Samstag\, den 28. Januar das Theater â€žDas Baumannâ€ś zu Gast. OpernsĂ
 ¤nger Robert Eller\, Theatermacher Siggi Michl und Schauspieler und Regiss
 eur RĂĽdiger Baumann schmoren genĂĽsslich im â€žRing of Fireâ€ś â€“ in ihr
 er MĂ¤nnerwelt haben Frauen zwar keinen Platz\, doch geredet und gesungen 
 wird â€“ ĂĽber Weiber! - Tickets: 09564 / 4761
DTEND:20170128T000000
DTSTART:20170128T193000
LAST-MODIFIED:20170118T200200Z
LOCATION:Bad Rodach\, Elsa47
SUMMARY:Ka Weiber\, ka Gschrei
X-IMAGE:http://www.region-coburg.tv/images/medium/baumann-vh-5f4a9ba2.jpg
END:VEVENT
END:VCALENDAR
