BEGIN:VCALENDAR
METHOD:PUBLISH
PRODID:-//3918@www.region-coburg.tv//NONSGML iCalcreator 2.4.3//
VERSION:2.0
BEGIN:VEVENT
UID:3918-20170126200000-20170126000000@www.region-coburg.tv
DTSTAMP:20260422T052918Z
CONTACT:09561 / 234923
CREATED:20170118T181500Z
DESCRIPTION:Zauberwelt im HofbrÃ¤uFans der prachtvollen Welt des â€žDonnerw
 etter VarietÃ©sâ€œ sollten sich Donnerstag\, den 26. Januar freihalten. â€
 žMarcelini & Oskarâ€œ vom Kleinkunsttheater â€žZauberweltâ€œ prÃ¤sentieren
  im â€žMÃ¼nchner HofbrÃ¤uâ€œ wieder SpaÃŸ\, Spannung und Entertainment. Mi
 t dabei ist neben vielen weiteren KÃ¼nstlern aus ganz Deutschland der Wort
 - und Jonglage-KÃ¼nstler Marcus Jeroch. - Tickets: 09561 / 234923
DTEND:20170126T000000
DTSTART:20170126T200000
LAST-MODIFIED:20170118T181500Z
LOCATION:Saal MÃ¼nchner HofbrÃ¤u
SUMMARY:Donnerwetter VarietÃ©
X-IMAGE:http://www.region-coburg.tv/images/medium/variete-vh-e5f69625.jpg
END:VEVENT
END:VCALENDAR
