BEGIN:VCALENDAR
METHOD:PUBLISH
PRODID:-//3917@www.region-coburg.tv//NONSGML iCalcreator 2.4.3//
VERSION:2.0
BEGIN:VEVENT
UID:3917-20170120190000-20170120000000@www.region-coburg.tv
DTSTAMP:20260420T133535Z
CONTACT: 09561 / 891420
CREATED:20170118T181000Z
DESCRIPTION:Lesung mit MusikOb Prosa oder Lyrik - Manfred Kern ist ein Allr
 ounder und lebt seit vielen Jahren als freier Autor in Coburg. Sein neuest
 er Gedichtband 'Baradiesischi Zeide' beinhaltet Liebes- und Schmähgedicht
 e\, die von Sehnsüchten\, Lebenskrisen und der Zerbrechlichkeit des Glüc
 ks erzählen. Fränkische Mundart-Lyrik mit Manfred Kern gepaart mit Blues
 - und Folkmusik von Gitarrist Harry Düll gibt es bei einer musikalischen 
 Lesung am Freitag\, den 20. Januar in der Coburger Stadtbücherei. - Ticke
 ts:  09561 / 891420
DTEND:20170120T000000
DTSTART:20170120T190000
LAST-MODIFIED:20170118T181000Z
LOCATION:Stadtbücherei Coburg
SUMMARY:Baradiesischi Zeide
X-IMAGE:http://www.region-coburg.tv/images/medium/baradiesisch-vh-7e8eb440.
 jpg
END:VEVENT
END:VCALENDAR
