BEGIN:VCALENDAR
METHOD:PUBLISH
PRODID:-//3913@www.region-coburg.tv//NONSGML iCalcreator 2.4.3//
VERSION:2.0
BEGIN:VEVENT
UID:3913-20170114150000-20170114000000@www.region-coburg.tv
DTSTAMP:20260422T014703Z
CONTACT:09561 / 898989
CREATED:20170110T174400Z
DESCRIPTION:'Mariechen saß weinend im Garten“Unglückliche Liebe\, Intri
 gen oder gar grausige Morde  - solche Themen wurden in der guten alten Ze
 it besungen. Und wenn Oma in der Küche weinte\, dann meist aus Verzweiflu
 ng über die tragische Geschichte von Mariechen. „Mariechen saß weinend
  im Garten“ lautet der Titel eines Liedernachmittags am Samstag\, den 14
 . und Sonntag\, den 15. Januar in der Reithalle. Joanna Stark\, Susanne Sc
 hulze\, Sascha Mai und Steffen Westphal erwecken die Lieder aus Küche und
  Salon wieder zum Leben. - Tickets: 09561 / 898989
DTEND:20170114T000000
DTSTART:20170114T150000
LAST-MODIFIED:20170110T174400Z
LOCATION:Theater in der Reithalle
SUMMARY:Lieder aus Küche und Salon
X-IMAGE:http://www.region-coburg.tv/images/medium/mariechen-vh-cf171e6c.jpg
END:VEVENT
END:VCALENDAR
