BEGIN:VCALENDAR
METHOD:PUBLISH
PRODID:-//3910@www.region-coburg.tv//NONSGML iCalcreator 2.4.3//
VERSION:2.0
BEGIN:VEVENT
UID:3910-20170421193000-20170421000000@www.region-coburg.tv
DTSTAMP:20260423T224617Z
CONTACT:09561 / 898989
CREATED:20170101T115700Z
DESCRIPTION:Die stumme SerenadeOperette von Erich Wolfgang KorngoldAuf Frau
 enraub steht – selbstverständlich – Todesstrafe! Soweit ist es gekomm
 en im Königreich Neapel. Umso größer ist der Aufschrei\, als die Schaus
 pielerin Silvia Lombardi davon berichtet\, dass nachts ein Unbekannter an 
 ihrem Bett gestanden hat. Etwas weniger schlimm: Unter dem Bett ihres Verl
 obten\, dem Ministerpräsidenten\, wurde eine Bombe deponiert. Die ging al
 lerdings nicht hoch. Polizeiminister Caretto steht aber nun doppelt unter 
 Zugzwang.Was wie ein Polit-Thriller beginnt\, ist in Wirklichkeit eine kö
 stliche Musik-Komödie\, halb Operette\, halb Oper und irgendwie auch ein 
 Musical. Schließlich schrieb Erwin Wolfgang Korngold seine „Stumme Sere
 nade' für den Broadway. Dort kam das Stück nie an und wurde auch nach de
 r Uraufführung in Deutschland rasch vergessen.VideoLandestheater Coburg\,
  Premiere am 25. Februar 2017 - Tickets: 09561 / 898989
DTEND:20170421T000000
DTSTART:20170421T193000
LAST-MODIFIED:20170101T115700Z
LOCATION:Landestheater\, Großes Haus
SUMMARY:Die stumme Serenade
X-IMAGE:http://www.region-coburg.tv/images/medium/serenade-vh-9fc61a0d.jpg
END:VEVENT
END:VCALENDAR
