BEGIN:VCALENDAR
METHOD:PUBLISH
PRODID:-//3909@www.region-coburg.tv//NONSGML iCalcreator 2.4.3//
VERSION:2.0
BEGIN:VEVENT
UID:3909-20170212110000-20170212000000@www.region-coburg.tv
DTSTAMP:20260422T084638Z
CONTACT:Eintritt frei!
CREATED:20170101T114900Z
DESCRIPTION:Die stumme SerenadeOperette von Erich Wolfgang KorngoldLandesth
 eater Coburg\, Matinée zur Premiere am 25. Februar 2017 - Tickets: Eintri
 tt frei!
DTEND:20170212T000000
DTSTART:20170212T110000
LAST-MODIFIED:20170101T114900Z
LOCATION:Landestheater Coburg\, Spiegelsaal
SUMMARY:Matinée
X-IMAGE:http://www.region-coburg.tv/images/medium/ltc-7b7cb14f.jpg
END:VEVENT
END:VCALENDAR
