BEGIN:VCALENDAR
METHOD:PUBLISH
PRODID:-//3908@www.region-coburg.tv//NONSGML iCalcreator 2.4.3//
VERSION:2.0
BEGIN:VEVENT
UID:3908-20170507150000-20170507000000@www.region-coburg.tv
DTSTAMP:20260421T123220Z
CONTACT:09561 / 898989
CREATED:20170101T112700Z
DESCRIPTION:Das schlaue FüchsleinOper von Leoš Janáček | Empfohlen für
  Menschen ab 16 Jahren | In deutscher Sprache„Ist ein Opernbesuch so nat
 ürlich wie ein Waldspaziergang?' „Ganz bestimmt'\, hätte der Komponist
  Leoš Janáček als überzeugter Panslawist auf Tschechisch geantwortet\,
  obwohl er fehlerfrei Deutsch sprach. Er schaute gern seinen Mitmenschen a
 uf den Mund und komponierte\, wie sie in ihrer Muttersprache kommunizierte
 n.Mit seiner „Sprechmelodie' revolutionierte er das Musiktheater des fr
 hen 20. Jahrhunderts. Das natürlich Fließende war für ihn aber keine S
 ensation\, sondern Inspiration. Kein Wunder\, dass er seine Oper „Das sc
 hlaue Füchslein' daher auch für sein bestes Werk hielt.VideoLandestheate
 r Coburg\, Premiere am 4. Februar 2017 - Tickets: 09561 / 898989
DTEND:20170507T000000
DTSTART:20170507T150000
LAST-MODIFIED:20170101T112700Z
LOCATION:Landestheater\, Großes Haus
SUMMARY:Das schlaue Füchslein
X-IMAGE:http://www.region-coburg.tv/images/medium/fuechslein-vh-8d636a91.jp
 g
END:VEVENT
END:VCALENDAR
