BEGIN:VCALENDAR
METHOD:PUBLISH
PRODID:-//3907@www.region-coburg.tv//NONSGML iCalcreator 2.4.3//
VERSION:2.0
BEGIN:VEVENT
UID:3907-20170122110000-20170122000000@www.region-coburg.tv
DTSTAMP:20260422T053123Z
CONTACT:Eintritt frei!
CREATED:20170101T112200Z
DESCRIPTION:Das schlaue FüchsleinOper von Leoš Janáček | Empfohlen für
  Menschen ab 16 Jahren | In deutscher SpracheLandestheater Coburg\, Matin
 e zur Premiere am 4. Februar 2017 - Tickets: Eintritt frei!
DTEND:20170122T000000
DTSTART:20170122T110000
LAST-MODIFIED:20170101T112200Z
LOCATION:Theater in der Reithalle
SUMMARY:Matinée
X-IMAGE:http://www.region-coburg.tv/images/medium/ltc-7b7cb14f.jpg
END:VEVENT
END:VCALENDAR
