BEGIN:VCALENDAR
METHOD:PUBLISH
PRODID:-//3906@www.region-coburg.tv//NONSGML iCalcreator 2.4.3//
VERSION:2.0
BEGIN:VEVENT
UID:3906-20170121200000-20170121000000@www.region-coburg.tv
DTSTAMP:20260422T052919Z
CONTACT:09561 / 898989
CREATED:20170101T111700Z
DESCRIPTION:Tanztheaterabend von Marc McClainLandestheater Coburg\, Premier
 e am 20. Januar 2017 - Tickets: 09561 / 898989
DTEND:20170121T000000
DTSTART:20170121T200000
LAST-MODIFIED:20170101T111700Z
LOCATION:Theater in der Reithalle
SUMMARY:Introductions
X-IMAGE:http://www.region-coburg.tv/images/medium/introductions-vh-fc543667
 .jpg
END:VEVENT
END:VCALENDAR
